BEGIN:VCALENDAR
VERSION:2.0
PRODID:-//Andreas Leupi //NONSGML Events //EN
CALSCALE:GREGORIAN
X-WR-CALNAME:Andreas Leupi
BEGIN:VEVENT
CREATED:20190327T142509Z
UID:544
DTEND:20190415T200000
DTSTART:20190415T193000
DTSTAMP:20231022T193236Z
LOCATION:Aula SAMD\, Davos
DESCRIPTION:
SUMMARY:Revision EU-Waffenrecht &#8211\; Entwaffnung der (Sport-)Schützen und Jäger?
ORGANIZER:
URL;VALUE=URI:https://www.andreas-leupi.ch/termine/revision-eu-waffenrecht-entwaffnung-der-sport-schuetzen-und-jaeger/
TRANSP:OPAQUE
END:VEVENT
END:VCALENDAR
