BEGIN:VCALENDAR
VERSION:2.0
PRODID:-//Andreas Leupi //NONSGML Events //EN
CALSCALE:GREGORIAN
X-WR-CALNAME:Andreas Leupi
BEGIN:VEVENT
CREATED:20190208T083443Z
UID:328
DTEND:20231022T000000
DTSTART:20231022T000000
DTSTAMP:20260420T130952Z
LOCATION:
DESCRIPTION:
SUMMARY:Nationalratswahlen
ORGANIZER:
URL;VALUE=URI:https://www.andreas-leupi.ch/termine/nationalratswahlen/
TRANSP:OPAQUE
END:VEVENT
END:VCALENDAR
